BEGIN:VCALENDAR
VERSION:2.0
PRODID:-//The Pensions Administration Standards Association - ECPv6.15.20//NONSGML v1.0//EN
CALSCALE:GREGORIAN
METHOD:PUBLISH
X-WR-CALNAME:The Pensions Administration Standards Association
X-ORIGINAL-URL:https://www.pasa-uk.com
X-WR-CALDESC:Events for The Pensions Administration Standards Association
REFRESH-INTERVAL;VALUE=DURATION:PT1H
X-Robots-Tag:noindex
X-PUBLISHED-TTL:PT1H
BEGIN:VTIMEZONE
TZID:Europe/London
BEGIN:DAYLIGHT
TZOFFSETFROM:+0000
TZOFFSETTO:+0100
TZNAME:BST
DTSTART:20240331T010000
END:DAYLIGHT
BEGIN:STANDARD
TZOFFSETFROM:+0100
TZOFFSETTO:+0000
TZNAME:GMT
DTSTART:20241027T010000
END:STANDARD
BEGIN:DAYLIGHT
TZOFFSETFROM:+0000
TZOFFSETTO:+0100
TZNAME:BST
DTSTART:20250330T010000
END:DAYLIGHT
BEGIN:STANDARD
TZOFFSETFROM:+0100
TZOFFSETTO:+0000
TZNAME:GMT
DTSTART:20251026T010000
END:STANDARD
BEGIN:DAYLIGHT
TZOFFSETFROM:+0000
TZOFFSETTO:+0100
TZNAME:BST
DTSTART:20260329T010000
END:DAYLIGHT
BEGIN:STANDARD
TZOFFSETFROM:+0100
TZOFFSETTO:+0000
TZNAME:GMT
DTSTART:20261025T010000
END:STANDARD
END:VTIMEZONE
BEGIN:VEVENT
DTSTART;VALUE=DATE:20250306
DTEND;VALUE=DATE:20250307
DTSTAMP:20260421T075504
CREATED:20250116T164745Z
LAST-MODIFIED:20250116T164812Z
UID:6567-1741219200-1741305599@www.pasa-uk.com
SUMMARY:Professional Pensions Admin & Data Forum - 6 March 2025
DESCRIPTION:PASA are delighted to support the Professional Pensions Admin & Data Forum to be held on Thursday 6 March 2025. \nRegister here: \nAdmin & Data Forum 2025 – Home Page
URL:https://www.pasa-uk.com/event/professional-pensions-admin-data-forum-6-march-2025/
LOCATION:1 Whitehall Place\, London\, London\, SW1A 2HE
END:VEVENT
BEGIN:VEVENT
DTSTART;VALUE=DATE:20250324
DTEND;VALUE=DATE:20250325
DTSTAMP:20260421T075504
CREATED:20250210T125230Z
LAST-MODIFIED:20250210T125230Z
UID:6615-1742774400-1742860799@www.pasa-uk.com
SUMMARY:PASA Annual Conference 2025
DESCRIPTION:
URL:https://www.pasa-uk.com/pasa-conference/#new_tab
LOCATION:Convene\, 155 Bishopsgate\, London EC2M 3YD\, Convene\, London\, EC2M 3YD\, United Kingdom
END:VEVENT
END:VCALENDAR