BEGIN:VCALENDAR
VERSION:2.0
PRODID:-//The Pensions Administration Standards Association - ECPv6.15.20//NONSGML v1.0//EN
CALSCALE:GREGORIAN
METHOD:PUBLISH
X-ORIGINAL-URL:https://www.pasa-uk.com
X-WR-CALDESC:Events for The Pensions Administration Standards Association
REFRESH-INTERVAL;VALUE=DURATION:PT1H
X-Robots-Tag:noindex
X-PUBLISHED-TTL:PT1H
BEGIN:VTIMEZONE
TZID:Europe/London
BEGIN:DAYLIGHT
TZOFFSETFROM:+0000
TZOFFSETTO:+0100
TZNAME:BST
DTSTART:20230326T010000
END:DAYLIGHT
BEGIN:STANDARD
TZOFFSETFROM:+0100
TZOFFSETTO:+0000
TZNAME:GMT
DTSTART:20231029T010000
END:STANDARD
BEGIN:DAYLIGHT
TZOFFSETFROM:+0000
TZOFFSETTO:+0100
TZNAME:BST
DTSTART:20240331T010000
END:DAYLIGHT
BEGIN:STANDARD
TZOFFSETFROM:+0100
TZOFFSETTO:+0000
TZNAME:GMT
DTSTART:20241027T010000
END:STANDARD
BEGIN:DAYLIGHT
TZOFFSETFROM:+0000
TZOFFSETTO:+0100
TZNAME:BST
DTSTART:20250330T010000
END:DAYLIGHT
BEGIN:STANDARD
TZOFFSETFROM:+0100
TZOFFSETTO:+0000
TZNAME:GMT
DTSTART:20251026T010000
END:STANDARD
END:VTIMEZONE
BEGIN:VEVENT
DTSTART;TZID=Europe/London:20240704T173000
DTEND;TZID=Europe/London:20240704T230000
DTSTAMP:20260424T004151
CREATED:20240606T103425Z
LAST-MODIFIED:20240606T103552Z
UID:6049-1720114200-1720134000@www.pasa-uk.com
SUMMARY:Summer Party for PASA volunteers\, members and partners
DESCRIPTION:
URL:https://www.pasa-uk.com/event/summer-party-for-pasa-volunteers-members-and-partners/
LOCATION:The Deck\, 7th Floor Roof Terrace\, 20 St Dunstan’s Hill\, EC3R 8HL
END:VEVENT
END:VCALENDAR