BEGIN:VCALENDAR
VERSION:2.0
PRODID:-//The Pensions Administration Standards Association - ECPv6.15.20//NONSGML v1.0//EN
CALSCALE:GREGORIAN
METHOD:PUBLISH
X-WR-CALNAME:The Pensions Administration Standards Association
X-ORIGINAL-URL:https://www.pasa-uk.com
X-WR-CALDESC:Events for The Pensions Administration Standards Association
REFRESH-INTERVAL;VALUE=DURATION:PT1H
X-Robots-Tag:noindex
X-PUBLISHED-TTL:PT1H
BEGIN:VTIMEZONE
TZID:Europe/London
BEGIN:DAYLIGHT
TZOFFSETFROM:+0000
TZOFFSETTO:+0100
TZNAME:BST
DTSTART:20230326T010000
END:DAYLIGHT
BEGIN:STANDARD
TZOFFSETFROM:+0100
TZOFFSETTO:+0000
TZNAME:GMT
DTSTART:20231029T010000
END:STANDARD
BEGIN:DAYLIGHT
TZOFFSETFROM:+0000
TZOFFSETTO:+0100
TZNAME:BST
DTSTART:20240331T010000
END:DAYLIGHT
BEGIN:STANDARD
TZOFFSETFROM:+0100
TZOFFSETTO:+0000
TZNAME:GMT
DTSTART:20241027T010000
END:STANDARD
BEGIN:DAYLIGHT
TZOFFSETFROM:+0000
TZOFFSETTO:+0100
TZNAME:BST
DTSTART:20250330T010000
END:DAYLIGHT
BEGIN:STANDARD
TZOFFSETFROM:+0100
TZOFFSETTO:+0000
TZNAME:GMT
DTSTART:20251026T010000
END:STANDARD
END:VTIMEZONE
BEGIN:VEVENT
DTSTART;TZID=Europe/London:20240430T090000
DTEND;TZID=Europe/London:20240430T180000
DTSTAMP:20260423T193430
CREATED:20240130T144813Z
LAST-MODIFIED:20240130T144853Z
UID:5558-1714467600-1714500000@www.pasa-uk.com
SUMMARY:PASA Annual Conference
DESCRIPTION:If ever there was a time for pensions administration ‘The time is now’. There are a mountain of changes in store for 2024. Even without a general election which could result in a change of government\, we’ve got new policy initiatives to implement with huge impacts on administration. This really is our chance to shine and demonstrate administration really is at the heart of pensions. \nTPR’s blog from Cliodhna Judge in September 2023 told us how topics such as dashboards\, VFM\, covid and cyber leaks have put the importance of good administration at the forefront of the Regulator’s mind and described how they intend to use ‘a successful supervision approach to establish open\, two-way relationships’ with administrators to ‘understand the challenges and tackle the risks’. \nIn the same month\, Mary Stark’s Independent Review of TPR\, recommended TPR and DWP work together to understand the benefits of extending TPR’s regulatory remit to cover pensions administrators. Regardless of where you stand on this subject\, never before has administration been so deliberated and considered! \n2024 really does look to be a pivotal year for administration. Our speakers will debate all of the above topics and more throughout the day’s sessions\, and we hope you’ll join us in person to add your thoughts – either by asking questions to our speakers or by discussing your thoughts with other delegates in the PASA community. We hope to see you there for a lively and welcoming day of discussions!
URL:https://www.pasa-uk.com/event/pasa-annual-conference/
LOCATION:etc venues\, St Pauls\, 200 Aldersgate\, London\, EC1A 4HD\, United Kingdom
END:VEVENT
END:VCALENDAR