BEGIN:VCALENDAR
VERSION:2.0
PRODID:-//The Pensions Administration Standards Association - ECPv6.15.20//NONSGML v1.0//EN
CALSCALE:GREGORIAN
METHOD:PUBLISH
X-WR-CALNAME:The Pensions Administration Standards Association
X-ORIGINAL-URL:https://www.pasa-uk.com
X-WR-CALDESC:Events for The Pensions Administration Standards Association
REFRESH-INTERVAL;VALUE=DURATION:PT1H
X-Robots-Tag:noindex
X-PUBLISHED-TTL:PT1H
BEGIN:VTIMEZONE
TZID:Europe/London
BEGIN:DAYLIGHT
TZOFFSETFROM:+0000
TZOFFSETTO:+0100
TZNAME:BST
DTSTART:20230326T010000
END:DAYLIGHT
BEGIN:STANDARD
TZOFFSETFROM:+0100
TZOFFSETTO:+0000
TZNAME:GMT
DTSTART:20231029T010000
END:STANDARD
BEGIN:DAYLIGHT
TZOFFSETFROM:+0000
TZOFFSETTO:+0100
TZNAME:BST
DTSTART:20240331T010000
END:DAYLIGHT
BEGIN:STANDARD
TZOFFSETFROM:+0100
TZOFFSETTO:+0000
TZNAME:GMT
DTSTART:20241027T010000
END:STANDARD
BEGIN:DAYLIGHT
TZOFFSETFROM:+0000
TZOFFSETTO:+0100
TZNAME:BST
DTSTART:20250330T010000
END:DAYLIGHT
BEGIN:STANDARD
TZOFFSETFROM:+0100
TZOFFSETTO:+0000
TZNAME:GMT
DTSTART:20251026T010000
END:STANDARD
END:VTIMEZONE
BEGIN:VEVENT
DTSTART;TZID=Europe/London:20240117T150000
DTEND;TZID=Europe/London:20240117T160000
DTSTAMP:20260421T112302
CREATED:20240104T121621Z
LAST-MODIFIED:20240105T220708Z
UID:5489-1705503600-1705507200@www.pasa-uk.com
SUMMARY:PDP webinar: connection guidance and understanding AVCs and value data
DESCRIPTION:The Pensions Dashboards Programme (PDP) will be hosting an open webinar on 17 January 2024. Chris Curry\, PDP’s Principal\, will appear alongside guest speakers from PASA\, Local Government Association (LGA) and the regulators to discuss their latest guidance\, AVCs and value data.
URL:https://www.pasa-uk.com/event/pdp-webinar-connection-guidance-and-understanding-avcs-and-value-data/
LOCATION:Online Webinar
END:VEVENT
END:VCALENDAR