BEGIN:VCALENDAR
VERSION:2.0
PRODID:-//The Pensions Administration Standards Association - ECPv6.15.20//NONSGML v1.0//EN
CALSCALE:GREGORIAN
METHOD:PUBLISH
X-WR-CALNAME:The Pensions Administration Standards Association
X-ORIGINAL-URL:https://www.pasa-uk.com
X-WR-CALDESC:Events for The Pensions Administration Standards Association
REFRESH-INTERVAL;VALUE=DURATION:PT1H
X-Robots-Tag:noindex
X-PUBLISHED-TTL:PT1H
BEGIN:VTIMEZONE
TZID:Europe/London
BEGIN:DAYLIGHT
TZOFFSETFROM:+0000
TZOFFSETTO:+0100
TZNAME:BST
DTSTART:20220327T010000
END:DAYLIGHT
BEGIN:STANDARD
TZOFFSETFROM:+0100
TZOFFSETTO:+0000
TZNAME:GMT
DTSTART:20221030T010000
END:STANDARD
BEGIN:DAYLIGHT
TZOFFSETFROM:+0000
TZOFFSETTO:+0100
TZNAME:BST
DTSTART:20230326T010000
END:DAYLIGHT
BEGIN:STANDARD
TZOFFSETFROM:+0100
TZOFFSETTO:+0000
TZNAME:GMT
DTSTART:20231029T010000
END:STANDARD
BEGIN:DAYLIGHT
TZOFFSETFROM:+0000
TZOFFSETTO:+0100
TZNAME:BST
DTSTART:20240331T010000
END:DAYLIGHT
BEGIN:STANDARD
TZOFFSETFROM:+0100
TZOFFSETTO:+0000
TZNAME:GMT
DTSTART:20241027T010000
END:STANDARD
END:VTIMEZONE
BEGIN:VEVENT
DTSTART;VALUE=DATE:20231122
DTEND;VALUE=DATE:20231124
DTSTAMP:20260421T143616
CREATED:20231120T120254Z
LAST-MODIFIED:20231120T120254Z
UID:5414-1700611200-1700783999@www.pasa-uk.com
SUMMARY:Private & Public Pensions Summit
DESCRIPTION:PASA Chair\, Kim Gubler\, will be speaking at the Private & Public Pensions Summit at Pennyhill Park. Check out her session and ask her lots of questions if you’re there! \nWhy good administration is at the cornerstone of a great pension system\, delivering a great experience and protecting people from scams.\nAdministration is often seen as the poor relation to investment when it comes to delivering great member outcomes. But it is the administration side of things\, not the trustee or the investment manager\, that is the interface between the scheme and the customer. Getting this right is important in delivering great customer outcomes\, getting this wrong creates member dissatisfaction and plays into the hands of scammers.
URL:https://www.pasa-uk.com/event/private-public-pensions-summit/
LOCATION:Pennyhill Park\, Surrey\, United Kingdom
END:VEVENT
BEGIN:VEVENT
DTSTART;TZID=Europe/London:20231130T150000
DTEND;TZID=Europe/London:20231130T160000
DTSTAMP:20260421T143616
CREATED:20231106T095737Z
LAST-MODIFIED:20231106T095737Z
UID:5381-1701356400-1701360000@www.pasa-uk.com
SUMMARY:XPS PensionsTalk 2023\, Day 4: Evaluating and shaping your scheme administration to fulfill your scheme’s strategy
DESCRIPTION:Don’t miss Kim Gubler\, PASA chair and Sarah Leslie\, Partner and Director from ndapt on evaluating and shaping your scheme administration to fulfill your scheme’s strategy. \n“As schemes accelerate their journey plans and legislation demands increase\, there is now a bigger focus on how administration can support or inhibit schemes’ objectives. Now is a perfect time for trustees and sponsors to review their administration service provision and assess whether it’s fit for purpose to fulfill their strategy. \nEngaging with your current provider or transitioning to a new provider may offer trustees and sponsors the opportunity to take advantage of latest developments in the market to achieve the best outcome for both members and schemes. \nIn this webcast\, we will discuss: \n\nWhat you should expect from your administration provider and how to get the best out of them.\nThe importance of data in shaping your scheme administration so that it supports your scheme’s journey plan.\nTransition planning – the benefits of remaining focussed on important strategic decisions such as transitioning\, whilst managing the short term challenges of GMP and large data projects.\nEmbracing technology to create efficiencies\, improve service standards and enrich the member experience.”
URL:https://www.pasa-uk.com/event/xps-pensionstalk-2023-day-4-evaluating-and-shaping-your-scheme-administration-to-fulfill-your-schemes-strategy/
LOCATION:Online Webinar
END:VEVENT
END:VCALENDAR