BEGIN:VCALENDAR
VERSION:2.0
PRODID:-//The Pensions Administration Standards Association - ECPv6.15.20//NONSGML v1.0//EN
CALSCALE:GREGORIAN
METHOD:PUBLISH
X-ORIGINAL-URL:https://www.pasa-uk.com
X-WR-CALDESC:Events for The Pensions Administration Standards Association
REFRESH-INTERVAL;VALUE=DURATION:PT1H
X-Robots-Tag:noindex
X-PUBLISHED-TTL:PT1H
BEGIN:VTIMEZONE
TZID:Europe/London
BEGIN:DAYLIGHT
TZOFFSETFROM:+0000
TZOFFSETTO:+0100
TZNAME:BST
DTSTART:20220327T010000
END:DAYLIGHT
BEGIN:STANDARD
TZOFFSETFROM:+0100
TZOFFSETTO:+0000
TZNAME:GMT
DTSTART:20221030T010000
END:STANDARD
BEGIN:DAYLIGHT
TZOFFSETFROM:+0000
TZOFFSETTO:+0100
TZNAME:BST
DTSTART:20230326T010000
END:DAYLIGHT
BEGIN:STANDARD
TZOFFSETFROM:+0100
TZOFFSETTO:+0000
TZNAME:GMT
DTSTART:20231029T010000
END:STANDARD
BEGIN:DAYLIGHT
TZOFFSETFROM:+0000
TZOFFSETTO:+0100
TZNAME:BST
DTSTART:20240331T010000
END:DAYLIGHT
BEGIN:STANDARD
TZOFFSETFROM:+0100
TZOFFSETTO:+0000
TZNAME:GMT
DTSTART:20241027T010000
END:STANDARD
END:VTIMEZONE
BEGIN:VEVENT
DTSTART;TZID=Europe/London:20230918T094500
DTEND;TZID=Europe/London:20230918T163500
DTSTAMP:20260421T182410
CREATED:20230918T121709Z
LAST-MODIFIED:20230918T121709Z
UID:5274-1695030300-1695054900@www.pasa-uk.com
SUMMARY:Professional Pensions Investment Conference 2023
DESCRIPTION:Professional Pensions invites you to attend Investment Conference: Embrace\, Evolve\, Excel. Crafted with your needs in mind\, this Central London event features engaging sessions\, interviews\, fireside chats\, panels\, and case studies\, that equip you with tools and strategies for the evolving pensions landscape. Amidst our packed schedule\, enjoy the opportunity to network during breakfast\, tea/coffee breaks\, and lunch! \nAs inflation stabilises\, trustees have the power to shape the future of the pensions landscape. Stay informed and sign up today to kickstart your journey to Embrace\, Evolve\, and Excel. \nThis event will:\n \n– Discuss the current market landscape \n – Identify future investment trends \n– Summarise a multitude of strategies and ideas to prepare for the evolving pensions scene \n 
URL:https://www.pasa-uk.com/event/professional-pensions-investment-conference-2023/
LOCATION:The Bloomsbury hotel\, 16-22 Great Russell Street\, London\, WC1B 3NN\, United Kingdom
END:VEVENT
END:VCALENDAR