BEGIN:VCALENDAR
VERSION:2.0
PRODID:-//The Pensions Administration Standards Association - ECPv6.15.20//NONSGML v1.0//EN
CALSCALE:GREGORIAN
METHOD:PUBLISH
X-WR-CALNAME:The Pensions Administration Standards Association
X-ORIGINAL-URL:https://www.pasa-uk.com
X-WR-CALDESC:Events for The Pensions Administration Standards Association
REFRESH-INTERVAL;VALUE=DURATION:PT1H
X-Robots-Tag:noindex
X-PUBLISHED-TTL:PT1H
BEGIN:VTIMEZONE
TZID:Europe/London
BEGIN:DAYLIGHT
TZOFFSETFROM:+0000
TZOFFSETTO:+0100
TZNAME:BST
DTSTART:20210328T010000
END:DAYLIGHT
BEGIN:STANDARD
TZOFFSETFROM:+0100
TZOFFSETTO:+0000
TZNAME:GMT
DTSTART:20211031T010000
END:STANDARD
BEGIN:DAYLIGHT
TZOFFSETFROM:+0000
TZOFFSETTO:+0100
TZNAME:BST
DTSTART:20220327T010000
END:DAYLIGHT
BEGIN:STANDARD
TZOFFSETFROM:+0100
TZOFFSETTO:+0000
TZNAME:GMT
DTSTART:20221030T010000
END:STANDARD
BEGIN:DAYLIGHT
TZOFFSETFROM:+0000
TZOFFSETTO:+0100
TZNAME:BST
DTSTART:20230326T010000
END:DAYLIGHT
BEGIN:STANDARD
TZOFFSETFROM:+0100
TZOFFSETTO:+0000
TZNAME:GMT
DTSTART:20231029T010000
END:STANDARD
END:VTIMEZONE
BEGIN:VEVENT
DTSTART;TZID=Europe/London:20221208T080000
DTEND;TZID=Europe/London:20221208T170000
DTSTAMP:20260422T110602
CREATED:20221208T113614Z
LAST-MODIFIED:20221208T113614Z
UID:4486-1670486400-1670518800@www.pasa-uk.com
SUMMARY:PASA Business Plan 2022 released
DESCRIPTION:PASA today released its Business Plan setting out the organisation’s strategic objectives and goals for the immediate years ahead.
URL:https://www.pasa-uk.com/event/pasa-business-plan-2022-released/
END:VEVENT
BEGIN:VEVENT
DTSTART;VALUE=DATE:20221213
DTEND;VALUE=DATE:20221214
DTSTAMP:20260422T110602
CREATED:20221214T122821Z
LAST-MODIFIED:20221214T122821Z
UID:4498-1670889600-1670975999@www.pasa-uk.com
SUMMARY:PASA Chats - episode 2 - the PASA Business Plan
DESCRIPTION:Join PASA Chair\, Kim Gubler and PASA Director\, Dave Pharo\, as they discuss PASA with our host Darren Philp – its beginnings\, what its current priorities are and how it’s getting itself fighting fit for the future…. \n \n 
URL:https://www.pasa-uk.com/event/pasa-chats-episode-2-the-pasa-business-plan/
LOCATION:PASA Chats podcast
END:VEVENT
END:VCALENDAR