BEGIN:VCALENDAR
VERSION:2.0
PRODID:-//The Pensions Administration Standards Association - ECPv6.15.20//NONSGML v1.0//EN
CALSCALE:GREGORIAN
METHOD:PUBLISH
X-ORIGINAL-URL:https://www.pasa-uk.com
X-WR-CALDESC:Events for The Pensions Administration Standards Association
REFRESH-INTERVAL;VALUE=DURATION:PT1H
X-Robots-Tag:noindex
X-PUBLISHED-TTL:PT1H
BEGIN:VTIMEZONE
TZID:Europe/London
BEGIN:DAYLIGHT
TZOFFSETFROM:+0000
TZOFFSETTO:+0100
TZNAME:BST
DTSTART:20210328T010000
END:DAYLIGHT
BEGIN:STANDARD
TZOFFSETFROM:+0100
TZOFFSETTO:+0000
TZNAME:GMT
DTSTART:20211031T010000
END:STANDARD
BEGIN:DAYLIGHT
TZOFFSETFROM:+0000
TZOFFSETTO:+0100
TZNAME:BST
DTSTART:20220327T010000
END:DAYLIGHT
BEGIN:STANDARD
TZOFFSETFROM:+0100
TZOFFSETTO:+0000
TZNAME:GMT
DTSTART:20221030T010000
END:STANDARD
BEGIN:DAYLIGHT
TZOFFSETFROM:+0000
TZOFFSETTO:+0100
TZNAME:BST
DTSTART:20230326T010000
END:DAYLIGHT
BEGIN:STANDARD
TZOFFSETFROM:+0100
TZOFFSETTO:+0000
TZNAME:GMT
DTSTART:20231029T010000
END:STANDARD
END:VTIMEZONE
BEGIN:VEVENT
DTSTART;TZID=Europe/London:20220629T110000
DTEND;TZID=Europe/London:20220629T120000
DTSTAMP:20260422T221032
CREATED:20220607T104513Z
LAST-MODIFIED:20220607T104513Z
UID:4056-1656500400-1656504000@www.pasa-uk.com
SUMMARY:Webinar: Cybercrime governance and data law in the pensions sector
DESCRIPTION:Join specialists from Crowe\, Eversheds Sutherland\, Law Debenture and the Pensions Regulator as we provide an update on the latest emerging threats\, while also reviewing best practice around GDPR and the expectations from the Regulator. \nWhat we will cover \n\nCybercrime trends\n\nThe latest statistics.\nNew research from the Dark Web.\nThe latest techniques you need to be aware of.\nSteps for the board.\n\n\nUK GDPR\n\nA refresher of your legal requirements.\nRecent examples of ICO enforcement.\n\n\nThe Pensions Regulator’s expectations and insight.\n\nYou will also have a chance to ask any questions to the panel of speakers through a live Q&A.
URL:https://www.pasa-uk.com/event/webinar-cybercrime-governance-and-data-law-in-the-pensions-sector/
LOCATION:Online Webinar
END:VEVENT
END:VCALENDAR