BEGIN:VCALENDAR
VERSION:2.0
PRODID:-//The Pensions Administration Standards Association - ECPv6.15.20//NONSGML v1.0//EN
CALSCALE:GREGORIAN
METHOD:PUBLISH
X-WR-CALNAME:The Pensions Administration Standards Association
X-ORIGINAL-URL:https://www.pasa-uk.com
X-WR-CALDESC:Events for The Pensions Administration Standards Association
REFRESH-INTERVAL;VALUE=DURATION:PT1H
X-Robots-Tag:noindex
X-PUBLISHED-TTL:PT1H
BEGIN:VTIMEZONE
TZID:Europe/London
BEGIN:DAYLIGHT
TZOFFSETFROM:+0000
TZOFFSETTO:+0100
TZNAME:BST
DTSTART:20200329T010000
END:DAYLIGHT
BEGIN:STANDARD
TZOFFSETFROM:+0100
TZOFFSETTO:+0000
TZNAME:GMT
DTSTART:20201025T010000
END:STANDARD
BEGIN:DAYLIGHT
TZOFFSETFROM:+0000
TZOFFSETTO:+0100
TZNAME:BST
DTSTART:20210328T010000
END:DAYLIGHT
BEGIN:STANDARD
TZOFFSETFROM:+0100
TZOFFSETTO:+0000
TZNAME:GMT
DTSTART:20211031T010000
END:STANDARD
BEGIN:DAYLIGHT
TZOFFSETFROM:+0000
TZOFFSETTO:+0100
TZNAME:BST
DTSTART:20220327T010000
END:DAYLIGHT
BEGIN:STANDARD
TZOFFSETFROM:+0100
TZOFFSETTO:+0000
TZNAME:GMT
DTSTART:20221030T010000
END:STANDARD
END:VTIMEZONE
BEGIN:VEVENT
DTSTART;TZID=Europe/London:20210420T163000
DTEND;TZID=Europe/London:20210420T173000
DTSTAMP:20260420T012351
CREATED:20210401T161716Z
LAST-MODIFIED:20210401T161716Z
UID:2666-1618936200-1618939800@www.pasa-uk.com
SUMMARY:ARC Pensions Law webinar - Losing your life savings: the problem of pension scams
DESCRIPTION:The event discusses the problems of pension scams with consumer and regulatory experts\, particularly the challenges of members asking pension trustees and administrators to transfer them to pension scams\, and what the scheme and its administrators can do to stop this.
URL:https://www.pasa-uk.com/event/arc-pensions-law-webinar-losing-your-life-savings-the-problem-of-pension-scams/
END:VEVENT
BEGIN:VEVENT
DTSTART;TZID=Europe/London:20210407T120000
DTEND;TZID=Europe/London:20210407T120000
DTSTAMP:20260420T012351
CREATED:20210209T124155Z
LAST-MODIFIED:20210209T124223Z
UID:2450-1617796800-1617796800@www.pasa-uk.com
SUMMARY:PASA 10 year anniversary art competition - winners announcement
DESCRIPTION:
URL:https://www.pasa-uk.com/event/pasa-10-year-anniversary-art-competition-winners-announcement/
END:VEVENT
BEGIN:VEVENT
DTSTART;TZID=Europe/London:20210331T170000
DTEND;TZID=Europe/London:20210331T170000
DTSTAMP:20260420T012351
CREATED:20210209T113436Z
LAST-MODIFIED:20210401T160626Z
UID:2436-1617210000-1617210000@www.pasa-uk.com
SUMMARY:PASA 10 year anniversary art competition - entries close
DESCRIPTION:The PASA 10 year anniversary art competition is now closed. The winners will be announced on Wednesday 7th April. You can check out all of the fantastic entries on the link below. \n\nPASA 10 year anniversary competition
URL:https://www.pasa-uk.com/event/pasa-10-year-anniversary-art-competition-entries-close/
END:VEVENT
BEGIN:VEVENT
DTSTART;TZID=Europe/London:20210325T123000
DTEND;TZID=Europe/London:20210325T131500
DTSTAMP:20260420T012351
CREATED:20210225T155831Z
LAST-MODIFIED:20210225T160019Z
UID:2524-1616675400-1616678100@www.pasa-uk.com
SUMMARY:Sackers webinar: Data\, data everywhere
DESCRIPTION:Pension scheme trustees and administrators have important duties around handling personal data in the digital age. They are also subject to greater scrutiny from members\, industry bodies and the media and are increasingly experiencing the fall out of data breaches and cyber attacks. \nSackers Pensions and Investment Litigation team is hosting a webinar which looks at the risks facing pension schemes and discusses approaches that may help mitigate those risks. We will look at how data breaches can impact on pension schemes\, the tactics used to obtain information from schemes through DSARs and what trustees can do to protect themselves from liability. The session will highlight key trends and practical steps that trustees can take.
URL:https://www.pasa-uk.com/event/sackers-webinar-data-data-everywhere/
END:VEVENT
BEGIN:VEVENT
DTSTART;TZID=Europe/London:20210322T140000
DTEND;TZID=Europe/London:20210322T150000
DTSTAMP:20260420T012351
CREATED:20210209T123938Z
LAST-MODIFIED:20210322T143012Z
UID:2447-1616421600-1616425200@www.pasa-uk.com
SUMMARY:PASA Data Guidance release
DESCRIPTION:PASA today launched its Data Management Plan Guidance in conjunction with PASA Expert Knowledge Provider for Data\, Deloitte. \nChris Tagg\, PASA Board Director\, commented: “The importance of managing the quality of pension scheme data is greater than ever\, and rightly so. Developments in legislation and regulation – such as GDPR\, GMP equalisation\, buy-in/ buy-out and pensions dashboard – have pushed data quality and management to the top of the agenda for both the trustees of pension schemes and their employers. It’s now becoming critical for data to be complete and accurate for a scheme to meet its duty to members\, as well as legislative requirements\, but it’s a big task and the difficulty for many schemes lies in what to prioritise. \nKristy Cotton\, Chair of the PASA Data Working Group continued: “Holding complete and accurate data goes hand-in-hand with meeting the primary objective of any pension scheme – to pay the right benefits\, to the right person\, at the right time. A Data Management Plan (DMP) is a critical scheme document and forms part of good scheme governance. It’s implementation offers a means of documenting the data held by a pension scheme and a policy for managing it effectively. \nThis Guidance sets out\, at a high level\, the purpose of a DMP and the information which it may be expected to include such as processing\, security and improvement. We would encourage all trustees to review the completeness\, accuracy and appropriateness of their data and integrate a DMP as part of their wider risk management framework.” \nThe full guidance can be found here.
URL:https://www.pasa-uk.com/event/pasa-data-guidance-release/
END:VEVENT
BEGIN:VEVENT
DTSTART;TZID=Europe/London:20210305T100000
DTEND;TZID=Europe/London:20210305T124500
DTSTAMP:20260420T012351
CREATED:20210209T114159Z
LAST-MODIFIED:20210209T114231Z
UID:2438-1614938400-1614948300@www.pasa-uk.com
SUMMARY:Kim Gubler panel discussion - Professional Pensions Admin & Data Forum 2021
DESCRIPTION:Join our Chair\, Kim Gubler\, at the upcoming Professional Pensions Admin & Data Forum 2021. Kim will join the panel discussion on The Flight to Quality.
URL:https://www.pasa-uk.com/event/kim-gubler-panel-slot-professional-pensions-admin-data-forum-2021/
END:VEVENT
BEGIN:VEVENT
DTSTART;TZID=Europe/London:20210302T090000
DTEND;TZID=Europe/London:20210302T210000
DTSTAMP:20260420T012351
CREATED:20210302T090140Z
LAST-MODIFIED:20210302T090140Z
UID:2560-1614675600-1614718800@www.pasa-uk.com
SUMMARY:PASA Dashboard Guidance released
DESCRIPTION:PASA today unveiled their dashboard guidance for UK pension schemes\, trustees and providers on how to start getting ready for pensions dashboards. \nChris Connelly\, Chair of the PASA Dashboard Working Group commented: “The main message with this guidance is a very clear one. You should start preparing now! Pensions dashboards have been on the horizon for some time\, but now the Pension Schemes Act 2021 has received Royal Assent we can expect The Department for Work and Pensions (DWP) to consult on detailed dashboards regulations and  Regulators to begin supporting pension providers and schemes comply with their dashboards compulsion duties.  We would also expect the Pensions Dashboards Programme (PDP)\, to publish further detailed instructions on how you must operate with the dashboards ecosystem.  But you don’t need to wait for all of this before you make a start.  This guidance aims  to explain what schemes and providers should be doing now to incorporate the requirements for dashboards.” \nChris added: “Almost every aspect of managing a pension scheme is easier to achieve if you actively manage data.  A good strategy will incorporate both ongoing and one-off scheme-specific data activities. We will also shortly issue guidance on Data Management Plans\, which all pension schemes should be looking to develop and implement to manage their data strategy. Pensions dashboards\, if done well\, could be a game changer in getting people to engage with their pensions\, and a better efficiency of pension scheme management full stop.  As an organisation PASA wants to play its role in ensuring the industry is as supported as possible in getting things ready and compliant.” \nThe full guidance can be found here. \n 
URL:https://www.pasa-uk.com/event/pasa-dashboard-guidance-released/
END:VEVENT
BEGIN:VEVENT
DTSTART;TZID=Europe/London:20210301T090000
DTEND;TZID=Europe/London:20210301T090000
DTSTAMP:20260420T012351
CREATED:20210209T113110Z
LAST-MODIFIED:20210401T160751Z
UID:2433-1614589200-1614589200@www.pasa-uk.com
SUMMARY:PASA 10 year anniversary art competition - entries open
DESCRIPTION:The PASA 10 year anniversary art competition is now closed. The winners will be announced on Wednesday 7th April. You can check out all of the fantastic entries on the link below. \n\nPASA 10 year anniversary competition
URL:https://www.pasa-uk.com/event/pasa-10-year-art-competition-entries-open/
END:VEVENT
BEGIN:VEVENT
DTSTART;TZID=Europe/London:20210223T100000
DTEND;TZID=Europe/London:20210223T160000
DTSTAMP:20260420T012351
CREATED:20210209T122139Z
LAST-MODIFIED:20210210T115359Z
UID:2442-1614074400-1614096000@www.pasa-uk.com
SUMMARY:Capita webinar - Future-proofing pensions: 2021 and beyond\, including Margaret Snowdon panel discussion
DESCRIPTION:PASA President\, Margaret Snowdon\, will join the panel debate – Are pensions the answer for tomorrow’s society? – at the upcoming Capita webinar Future-proofing pensions: 2021 and beyond. \nFrom the organiser: \nExploring the economic and organisational trends for 2021 and the lessons learned from the pandemic\, we will look at what pensions schemes will need to do to ensure they are ready for a digitally enabled\, member engaged\, financially sustainable future. \nFull details of the agenda and registration are available at the event page link below. \n 
URL:https://www.pasa-uk.com/event/margaret-snowdon-panel-discussion-future-proofing-pensions-2021-and-beyond/
END:VEVENT
BEGIN:VEVENT
DTSTART;TZID=Europe/London:20210222T090000
DTEND;TZID=Europe/London:20210222T210000
DTSTAMP:20260420T012351
CREATED:20210224T153254Z
LAST-MODIFIED:20210224T153341Z
UID:2508-1613984400-1614027600@www.pasa-uk.com
SUMMARY:Blog for Pension Funds Online - There is no such thing as a free SARs
DESCRIPTION:PASA Director\, Paul Sturgess talks Subject Access Requests in a blog for Pension Funds Online. \n 
URL:https://www.pasa-uk.com/event/blog-for-pension-funds-online-there-is-no-such-thing-as-a-free-sars/
END:VEVENT
BEGIN:VEVENT
DTSTART;TZID=Europe/London:20210217T090000
DTEND;TZID=Europe/London:20210217T090000
DTSTAMP:20260420T012351
CREATED:20210217T185713Z
LAST-MODIFIED:20210217T185713Z
UID:2505-1613552400-1613552400@www.pasa-uk.com
SUMMARY:Pensions Age blog - Future-proofing pensions administration standards isn’t achieved by luck alone
DESCRIPTION:PASA Board Director\, Dave Pharo’s blog for Pensions Age – Future-proofing pensions administration standards isn’t achieved by luck alone.
URL:https://www.pasa-uk.com/event/pensions-age-blog-future-proofing-pensions-administration-standards-isnt-achieved-by-luck-alone/
END:VEVENT
BEGIN:VEVENT
DTSTART;TZID=Europe/London:20210215T100000
DTEND;TZID=Europe/London:20210215T100000
DTSTAMP:20260420T012351
CREATED:20210209T105521Z
LAST-MODIFIED:20210215T100618Z
UID:2420-1613383200-1613383200@www.pasa-uk.com
SUMMARY:GMP Equalisation Tax Guidance release
DESCRIPTION:You can find the press release and link to the new Guidance here. \n 
URL:https://www.pasa-uk.com/event/gmp-equalisation-tax-guidance-release/
END:VEVENT
BEGIN:VEVENT
DTSTART;TZID=Europe/London:20210208T090000
DTEND;TZID=Europe/London:20210208T090000
DTSTAMP:20260420T012351
CREATED:20210209T104153Z
LAST-MODIFIED:20210209T104153Z
UID:2416-1612774800-1612774800@www.pasa-uk.com
SUMMARY:Press release - PASA celebrates 10th anniversary year
DESCRIPTION:PASA celebrates its 10th Anniversary in Industry this year. \nKim Gubler\, PASA Chair\, commented: “When PASA launched 10 years ago the landscape was very different and administration sat\, very firmly\, at the bottom of most trustee agendas – even though it is (and was) a crucial component in successfully delivering so many projects. Although people acknowledged standards in pensions administration needed to be raised\, they were less sure how to achieve it and there was little impetus to drive change.   Our aim with PASA was to be that conduit for change.  We wanted to create a modern\, forward thinking association fit for 21st Century\, driving up standards through Accreditation\, support and Guidance.  Member outcomes have always been\, and remain\, core to our raison d’etre.  They are at the heart of all we do. \n“Happily\, it’s clear the Industry now fully appreciates and acknowledges the crucial role administration plays in the running of effective pension schemes in delivering better outcomes to members.  But our job is not done\, we must be forward thinking.  In 10 years from now how pensions are delivered\, who delivers them and what form they take could all be different.  One thing is sure – whatever shape they take – pensions will have to be administered and transitioned.  There is also the short and medium term to think about.  Just because the industry has finally ‘got’ the message that administration is important\, we can’t sit on our laurels.  We must be proactive and pre-empt what might be around the corner so we can be prepared and ensure administration continues to get the focus it needs.” \nGubler added: “PASA has been proud to work alongside our members\, Expert Partners\, volunteers and Government to support the Industry in delivering pensions to members.  This is fundamentally what it’s all about.  I would like to thank all of the talented and expert individuals who have given their time\, sitting on our Board\, Committees and Working Groups to support us in producing the first class Guidance we have been able to release. Huge thanks also to our members and the Industry who have championed us all the way.  We couldn’t have done it without you all.  2021 is looking to be another busy year for us.  As well as a great deal more Guidance scheduled for release on issues including GMP Equalisation\, Exit Agreements\, Fraud and Data\, we have a few surprises up our sleeves to celebrate PASA’s coming of age. Watch this space!” \nENDS
URL:https://www.pasa-uk.com/event/press-release-pasa-celebrates-10th-anniversary-year/
END:VEVENT
BEGIN:VEVENT
DTSTART;TZID=Europe/London:20210204T090000
DTEND;TZID=Europe/London:20210204T090000
DTSTAMP:20260420T012351
CREATED:20210209T103729Z
LAST-MODIFIED:20210209T104310Z
UID:2413-1612429200-1612429200@www.pasa-uk.com
SUMMARY:PASA Cybercrime & Fraud Working Group Update
DESCRIPTION:PASA issued new guidance on cybercrime protection towards the end of last year\, but the latest figures from the Office for National Statistics show the importance of this guidance being implemented. \nReleased this week\, they reveal for the 12 months ending September 2020 there were 1\,679\,000 incidents of cybercrime. This compares with 876\,000 cybercrime incidents in the 12 months ending March 2020. Post-COVID there has been a 91.7% increase in cybercrime. \nThese shocking increases are some of the sharpest ever recorded for any type of crime. \nThe latest manifestations of cybercrime include: \n\nAn increase in the number of fake websites being set up;\nCybercrime as a Service (‘CAAS’) becoming more prevalent (where cybercriminals are ‘hired’ to attack an organisation with a ‘menu’ of prices and types of attack); and\nThe use of Artificial Intelligence to target vulnerabilities and vulnerable organisations\, so the cybercrime businesses can make what they do as efficient and profitable as possible.\n\nEvery administrator should make sure (1) they are as well protected as possible (2) they are able to ‘manage’ an attack if one happens and (3) they are able to respond\, investigate what has happened and mitigate any damage. You can download PASA’s guidance here.
URL:https://www.pasa-uk.com/event/pasa-cybercrime-fraud-working-group-update/
END:VEVENT
BEGIN:VEVENT
DTSTART;TZID=Europe/London:20210126T100000
DTEND;TZID=Europe/London:20210126T100000
DTSTAMP:20260420T012351
CREATED:20210209T110140Z
LAST-MODIFIED:20210209T110140Z
UID:2424-1611655200-1611655200@www.pasa-uk.com
SUMMARY:GMP Equalisation Working Group Update
DESCRIPTION:Check out the latest update from the Chair of the GMP Equalisation Working Group\, Geraldine Brassett\,  as she looks back at 2021 and looks forward to the group’s plans for the year ahead. \nGMPEWG – review of 2020 FINAL
URL:https://www.pasa-uk.com/event/gmp-equalisation-working-group-update/
END:VEVENT
BEGIN:VEVENT
DTSTART;TZID=Europe/London:20210125T090000
DTEND;TZID=Europe/London:20210125T090000
DTSTAMP:20260420T012351
CREATED:20210209T110830Z
LAST-MODIFIED:20210209T110830Z
UID:2426-1611565200-1611565200@www.pasa-uk.com
SUMMARY:Professional Pensions article - Talk of a dashboard delay 'is just plain wrong'
DESCRIPTION:PASA Chair\, Kim Gubler\, explains to Professional Pensions\, why talk of a dashboard delay is ‘just plain wrong’.
URL:https://www.pasa-uk.com/event/professional-pensions-article-talk-of-a-dashboard-delay-is-just-plain-wrong/
END:VEVENT
BEGIN:VEVENT
DTSTART;TZID=Europe/London:20210108T090000
DTEND;TZID=Europe/London:20210108T090000
DTSTAMP:20260420T012351
CREATED:20210209T112713Z
LAST-MODIFIED:20210209T112747Z
UID:2431-1610096400-1610096400@www.pasa-uk.com
SUMMARY:West Midlands Pension Fund - accreditation case study for Pensions Age
DESCRIPTION:Thinking about PASA accreditation? Hear from a Local Authority scheme who have been through the process. You can check out West Midlands Pension Fund’s case study in Pensions Age.
URL:https://www.pasa-uk.com/event/west-midlands-pension-fund-accreditation-case-study-for-pensions-age/
END:VEVENT
END:VCALENDAR