BEGIN:VCALENDAR
VERSION:2.0
PRODID:-//The Pensions Administration Standards Association - ECPv6.15.20//NONSGML v1.0//EN
CALSCALE:GREGORIAN
METHOD:PUBLISH
X-WR-CALNAME:The Pensions Administration Standards Association
X-ORIGINAL-URL:https://www.pasa-uk.com
X-WR-CALDESC:Events for The Pensions Administration Standards Association
REFRESH-INTERVAL;VALUE=DURATION:PT1H
X-Robots-Tag:noindex
X-PUBLISHED-TTL:PT1H
BEGIN:VTIMEZONE
TZID:Europe/London
BEGIN:DAYLIGHT
TZOFFSETFROM:+0000
TZOFFSETTO:+0100
TZNAME:BST
DTSTART:20250330T010000
END:DAYLIGHT
BEGIN:STANDARD
TZOFFSETFROM:+0100
TZOFFSETTO:+0000
TZNAME:GMT
DTSTART:20251026T010000
END:STANDARD
BEGIN:DAYLIGHT
TZOFFSETFROM:+0000
TZOFFSETTO:+0100
TZNAME:BST
DTSTART:20260329T010000
END:DAYLIGHT
BEGIN:STANDARD
TZOFFSETFROM:+0100
TZOFFSETTO:+0000
TZNAME:GMT
DTSTART:20261025T010000
END:STANDARD
BEGIN:DAYLIGHT
TZOFFSETFROM:+0000
TZOFFSETTO:+0100
TZNAME:BST
DTSTART:20270328T010000
END:DAYLIGHT
BEGIN:STANDARD
TZOFFSETFROM:+0100
TZOFFSETTO:+0000
TZNAME:GMT
DTSTART:20271031T010000
END:STANDARD
END:VTIMEZONE
BEGIN:VEVENT
DTSTART;TZID=Europe/London:20260414T123000
DTEND;TZID=Europe/London:20260414T143000
DTSTAMP:20260423T111835
CREATED:20260331T132826Z
LAST-MODIFIED:20260423T070605Z
UID:7878-1776169800-1776177000@www.pasa-uk.com
SUMMARY:PASA Cyber and Fraud Information Sharing Network (CFISN) Launch Event
DESCRIPTION:Invitation: PASA Cyber and Fraud Information Sharing Network (CFISN) Launch Event \nYou are invited to attend the exclusive launch event for the PASA Cyber and Fraud Information Sharing Network (CFISN)\, taking place at Crowe UK\, 55 Ludgate Hill\, London\, EC4M 7JW on 14 April 2026 from 12:30 to 14:30. \nCFISN is a new PASA-led initiative designed to bring pension administrators together to share intelligence on cybercrime and fraud in a secure and confidential environment. With threats increasing in both frequency and sophistication\, the Network aims to support earlier visibility of emerging risks\, enable faster collective responses\, and strengthen the protection of member outcomes. \nThe launch event will include an introduction to CFISN\, outlining its purpose and how it will operate in practice\, followed by insights into current cyber and fraud threats facing the sector. There will also be an opportunity for discussion and questions\, alongside lunch and informal networking with industry peers. \nThis event is intended for administration leads or relevant representatives within organisations. If the primary contact is unavailable\, a suitable delegate may attend. \nPlease contact info@pasa-uk.com as soon as possible to confirm attendance. When responding\, kindly include any dietary requirements. \nCybercrime is no longer a future risk—it is present\, evolving\, and increasing in both frequency and sophistication. A coordinated and proactive response across the pensions industry is essential. \n 
URL:https://www.pasa-uk.com/event/pasa-cyber-and-fraud-information-sharing-network-cfisn-launch-event/
LOCATION:Crowe UK\, 55 Ludgate Hill\, London\, EC4M 7JW
END:VEVENT
BEGIN:VEVENT
DTSTART;TZID=Europe/London:20260513T110000
DTEND;TZID=Europe/London:20260513T120000
DTSTAMP:20260423T111835
CREATED:20260423T065812Z
LAST-MODIFIED:20260423T065812Z
UID:7915-1778670000-1778673600@www.pasa-uk.com
SUMMARY:Webinar - Inbox Under Threat: Securing Pension Communications in a Digital-First World
DESCRIPTION:How to reduce fraud risk\, improve data accuracy and deliver trusted member communications \nEmail is fast\, cost effective and convenient\, but it also introduces new risks. Many schemes struggle with missing or inaccurate email data\, creating compliance challenges and increasing exposure to fraud\, including phishing\, impersonation and account takeover. With the FCA mandating electronic communication as the default for retail client disclosures\, secure and trustworthy digital communication has never been more important. \nThis webinar explores how schemes can strengthen email communications through improved data accuracy\, layered security and robust identity assurance. \nAttendees will gain practical insight into reducing risk\, protecting members and ensuring the right message reaches the right recipient every time. \nJoin us to learn how to build a secure\, compliant digital communication strategy which protects your scheme and strengthens member trust. \nWhat to Expect:\n• Why accurate email data matters and how it impacts compliance and customer experience\n• Strategies to obtain accurate email addresses where data is missing\n• How layered security\, including authentication methods and end-to-end encryption\, can reduce risk\n• How to ensure the right recipient receives the right message and safeguard sensitive information \nSpeakers:\n• Chris Connelly\, PASA Board Director\n• Lorraine Salmond\, Chair of the PASA Identity Management Working Group & Head of Strategy\, Identity UK&I at LexisNexis Risk Solutions – PASA Experts for Identity Management\n• Adam Byford\, Chief Commercial Officer\, Beyond Encryption \nThis webinar is for:\nThose looking to build a more robust digital communication strategy to support compliance\, reduce risk and improve customer experience.
URL:https://www.pasa-uk.com/event/webinar-inbox-under-threat-securing-pension-communications-in-a-digital-first-world/
LOCATION:Go to Webinar
END:VEVENT
END:VCALENDAR