BEGIN:VCALENDAR
VERSION:2.0
PRODID:-//The Pensions Administration Standards Association - ECPv6.15.20//NONSGML v1.0//EN
CALSCALE:GREGORIAN
METHOD:PUBLISH
X-ORIGINAL-URL:https://www.pasa-uk.com
X-WR-CALDESC:Events for The Pensions Administration Standards Association
REFRESH-INTERVAL;VALUE=DURATION:PT1H
X-Robots-Tag:noindex
X-PUBLISHED-TTL:PT1H
BEGIN:VTIMEZONE
TZID:Europe/London
BEGIN:DAYLIGHT
TZOFFSETFROM:+0000
TZOFFSETTO:+0100
TZNAME:BST
DTSTART:20240331T010000
END:DAYLIGHT
BEGIN:STANDARD
TZOFFSETFROM:+0100
TZOFFSETTO:+0000
TZNAME:GMT
DTSTART:20241027T010000
END:STANDARD
BEGIN:DAYLIGHT
TZOFFSETFROM:+0000
TZOFFSETTO:+0100
TZNAME:BST
DTSTART:20250330T010000
END:DAYLIGHT
BEGIN:STANDARD
TZOFFSETFROM:+0100
TZOFFSETTO:+0000
TZNAME:GMT
DTSTART:20251026T010000
END:STANDARD
BEGIN:DAYLIGHT
TZOFFSETFROM:+0000
TZOFFSETTO:+0100
TZNAME:BST
DTSTART:20260329T010000
END:DAYLIGHT
BEGIN:STANDARD
TZOFFSETFROM:+0100
TZOFFSETTO:+0000
TZNAME:GMT
DTSTART:20261025T010000
END:STANDARD
BEGIN:DAYLIGHT
TZOFFSETFROM:+0000
TZOFFSETTO:+0100
TZNAME:BST
DTSTART:20270328T010000
END:DAYLIGHT
BEGIN:STANDARD
TZOFFSETFROM:+0100
TZOFFSETTO:+0000
TZNAME:GMT
DTSTART:20271031T010000
END:STANDARD
END:VTIMEZONE
BEGIN:VEVENT
DTSTART;TZID=Europe/London:20251105T123000
DTEND;TZID=Europe/London:20251105T133000
DTSTAMP:20260419T154053
CREATED:20251022T082354Z
LAST-MODIFIED:20251022T084925Z
UID:7399-1762345800-1762349400@www.pasa-uk.com
SUMMARY:PASA Accreditation Explained - The Gold Standard in Administration Webinar
DESCRIPTION:Join us for a webinar exploring what PASA Accreditation means for you. Whether you’re a Third-Party Administrator\, an in-house team\, trustee\, pension manager\, Third-Party Evaluator – or anyone involved in demonstrating (or supporting the demonstration of) adherence to TPR’s General Code\, this webinar is for you. \nIf you’re looking to stand out in the market\, align with regulatory expectations\, or simply understand what’s involved\, this session offers a clear practical insight into what it takes to achieve and benefit from Accreditation. You’ll learn how PASA Accreditation helps organisations demonstrate their commitment to excellence\, transparency and robust governance\, through an independent assessment against the PASA Standards. \nThis webinar features: • How PASA Accreditation demonstrates alignment with TPR’s General Code • Insights from the Accreditation Committee • A brief walk-through of the accreditation journey\, including what’s assessed and why it matters • A practical perspective from accredited members who have completed the process • Interactive Q&A session with a member of the external auditing team\, RSM. \nRegister here.
URL:https://www.pasa-uk.com/event/pasa-accreditation-explained-the-gold-standard-in-administration-webinar/
LOCATION:Online Webinar
END:VEVENT
BEGIN:VEVENT
DTSTART;TZID=Europe/London:20251119T100000
DTEND;TZID=Europe/London:20251119T110000
DTSTAMP:20260419T154053
CREATED:20251110T104744Z
LAST-MODIFIED:20251111T165011Z
UID:7487-1763546400-1763550000@www.pasa-uk.com
SUMMARY:Exclusive Webinar - Discussion of TPR's New Member Quality Guidance with TPR and PASA
DESCRIPTION:Join us for ‘hot off the press’ discussions on TPR’s New Member Quality Guidance. Hear from You Yu\, Policy Delivery Lead at TPR\, Kristy Cotton\, our Chair of the PASA Data Working Group\, and Amanda Asante\, PASA Board Director. The panel will discuss how TPR is expecting data quality to be managed and practical guidance on how to achieve this. \nData has been high up on the regulatory agenda for some time and TPR has been actively engaging with pension schemes\, trustees\, administrators and consultants to ensure data quality and management are prioritised. Following this industry engagement and review of their Record Keeping guidance\, TPR is publishing their New Member Data Quality Guidance in November 2025. This webinar will tell you about the new guidance\, what’s changed\, and importantly what it means for pension schemes and those running them. \nSpeakers: \n• Amanda Asante\, PASA Board Member \n• Kristy Cotton\, Chair\, PASA Data Working Group and PASA Expert Partner for Data \n• You Yu\, Policy Delivery Lead\, TPR \nThis webinar is for: \n• Trustees \n• Scheme managers \n• Sponsoring employers \n• Administrators \n• Pensions Consultants \n• Wider pensions data providers \n 
URL:https://www.pasa-uk.com/event/exclusive-webinar-discussion-of-tprs-new-member-quality-guidance-with-tpr-and-pasa/
LOCATION:Online Webinar
END:VEVENT
BEGIN:VEVENT
DTSTART;TZID=Europe/London:20251127T130000
DTEND;TZID=Europe/London:20251127T190000
DTSTAMP:20260419T154053
CREATED:20250819T192805Z
LAST-MODIFIED:20250819T192805Z
UID:7061-1764248400-1764270000@www.pasa-uk.com
SUMMARY:PASA Edinburgh 2025: The Whole of the Moon
DESCRIPTION:Welcome\nPensions administration is often experienced in fragments. A governance update here\, a data challenge there\, a regulatory shift in the distance. ‘The Whole of the Moon’ brings those pieces together. \nWe begin with the Regulator’s perspective on the pressures shaping our environment\, before turning to a uniquely Scottish lens on pensions and a discussion on reframing administration as a strategic driver. The afternoon takes us deeper into the General Code and the realities of dashboard delivery\, before closing with a relaxed networking reception. It’s a programme designed to give you both the detailed insight and the panoramic view – the “whole of the moon.” \n 
URL:https://www.pasa-uk.com/event/pasa-edinburgh-2025-the-whole-of-the-moon/
LOCATION:TBC
END:VEVENT
BEGIN:VEVENT
DTSTART;TZID=Europe/London:20251211T080000
DTEND;TZID=Europe/London:20251211T170000
DTSTAMP:20260419T154053
CREATED:20251211T093330Z
LAST-MODIFIED:20251211T104548Z
UID:7571-1765440000-1765472400@www.pasa-uk.com
SUMMARY:Admin & Data Forum 2026
DESCRIPTION:PASA are proud to be Media Sponsor for Professional Pensions Admin & Data Forum – 5 March 2026 \nMore about the Admin & Data Forum  \nThursday 5th March 2026 \nConvene 22 Bishopsgate London \nRegister
URL:https://www.pasa-uk.com/event/admin-data-forum-2026/
END:VEVENT
BEGIN:VEVENT
DTSTART;TZID=Europe/London:20260128T110000
DTEND;TZID=Europe/London:20260128T120000
DTSTAMP:20260419T154053
CREATED:20260114T172948Z
LAST-MODIFIED:20260114T173237Z
UID:7615-1769598000-1769601600@www.pasa-uk.com
SUMMARY:Exclusive Webinar - De-Risking Demystified: Mythbusters for Buy-In & Superfund Success
DESCRIPTION:Join PASA’s De-Risking Working Group for an expert-led webinar exploring the recently released Jargon Buster and Mythbuster (“hot off the press” and published shortly after the session). \nRegister here. \nThis practical webinar will help administrators\, trustees and advisers navigate what happens after a buy-in or superfund transfer\, and why the reality is often more complex than expected. The Guidance sets out a structured operational framework for managing transitions with confidence: Automate. Validate. Communicate. \nWhat you’ll learn:\n• Exclusive insight into PASA’s newly released Mythbuster Guidance\n• A practical framework built around seven operational pillars for successful transitions:\n• Align administration early\n• Compliance and rule reset\n• Data integrity and reporting\n• Transparent member communication\n• Operational adjustments for deferred members\n• Risk mitigation strategies\n• Resourcing and budgeting essentials\n• Actionable tips: How to automate\, validate\, and communicate effectively during buy-in or superfund transitions\n• Expert panel discussion: Real-world challenges and solutions for administrators navigating complex transactions \nSpeakers:\n• Dan Taylor\, PASA Board Director\n• Ian Wort\, Chair of the PASA De-Risking Journey Management Working Group and Head of Projects and Implementations at Isio\n• Stacey Kippax\, Senior Manager\, PwC\n• Matthew de Ferrars\, Partner\, Pinsent Masons \nWho this webinar is for:\n• Pension scheme administrators and trustees preparing for buy-in or superfund transactions\n• Governance and compliance professionals seeking clarity on operational requirements\n• Project managers and implementation leads involved in de-risking strategies\n• Anyone responsible for member communications\, data integrity and reporting during transitions \n 
URL:https://www.pasa-uk.com/event/join-pasas-de-risking-working-group-for-an-expert-led-webinar-exploring-the-recently-released-jargon-buster-and-mythbuster-hot-off-the-press-and-published-shortly-after-the-sessio/
LOCATION:Online Webinar
END:VEVENT
BEGIN:VEVENT
DTSTART;TZID=Europe/London:20260414T123000
DTEND;TZID=Europe/London:20260512T143000
DTSTAMP:20260419T154053
CREATED:20260331T132826Z
LAST-MODIFIED:20260331T133637Z
UID:7878-1776169800-1778596200@www.pasa-uk.com
SUMMARY:PASA Cyber and Fraud Information Sharing Network (CFISN) Launch Event
DESCRIPTION:Invitation: PASA Cyber and Fraud Information Sharing Network (CFISN) Launch Event \nYou are invited to attend the exclusive launch event for the PASA Cyber and Fraud Information Sharing Network (CFISN)\, taking place at Crowe UK\, 55 Ludgate Hill\, London\, EC4M 7JW on 14 April 2026 from 12:30 to 14:30. \nCFISN is a new PASA-led initiative designed to bring pension administrators together to share intelligence on cybercrime and fraud in a secure and confidential environment. With threats increasing in both frequency and sophistication\, the Network aims to support earlier visibility of emerging risks\, enable faster collective responses\, and strengthen the protection of member outcomes. \nThe launch event will include an introduction to CFISN\, outlining its purpose and how it will operate in practice\, followed by insights into current cyber and fraud threats facing the sector. There will also be an opportunity for discussion and questions\, alongside lunch and informal networking with industry peers. \nThis event is intended for administration leads or relevant representatives within organisations. If the primary contact is unavailable\, a suitable delegate may attend. \nPlease contact info@pasa-uk.com as soon as possible to confirm attendance. When responding\, kindly include any dietary requirements. \nCybercrime is no longer a future risk—it is present\, evolving\, and increasing in both frequency and sophistication. A coordinated and proactive response across the pensions industry is essential. \n 
URL:https://www.pasa-uk.com/event/pasa-cyber-and-fraud-information-sharing-network-cfisn-launch-event/
LOCATION:Crowe UK\, 55 Ludgate Hill\, London\, EC4M 7JW
END:VEVENT
END:VCALENDAR